BEGIN:VCALENDAR
VERSION:2.0
PRODID:-//Batavia Park District - ECPv6.15.20//NONSGML v1.0//EN
CALSCALE:GREGORIAN
METHOD:PUBLISH
X-ORIGINAL-URL:https://bataviaparks.org
X-WR-CALDESC:Events for Batavia Park District
REFRESH-INTERVAL;VALUE=DURATION:PT1H
X-Robots-Tag:noindex
X-PUBLISHED-TTL:PT1H
BEGIN:VTIMEZONE
TZID:UTC
BEGIN:STANDARD
TZOFFSETFROM:+0000
TZOFFSETTO:+0000
TZNAME:UTC
DTSTART:20250101T000000
END:STANDARD
END:VTIMEZONE
BEGIN:VEVENT
DTSTART;TZID=UTC:20260123T100000
DTEND;TZID=UTC:20260123T120000
DTSTAMP:20260420T032347
CREATED:20260108T073441Z
LAST-MODIFIED:20260122T201536Z
UID:4425-1769162400-1769169600@bataviaparks.org
SUMMARY:Preschool Open Gym - Cancelled on January 23
DESCRIPTION:NOTICE: Due to the severe cold temperatures\, Preschool Open Gym has been cancelled for Friday\, January 23rd. \nWinter cold can’t keep young children from running\, climbing and tumbling away their energy during Preschool Open Gym. Children will enjoy playing on mats\, climbing on squishy climbing blocks and playing with balls and more. \nFridays from 10 a.m. to noon in the Civic Center Bartholomew Room. \nCost is $5 for the first child and $3 for each additional Child. Pay at the front desk. \nThere is no open gym on April 3.
URL:https://bataviaparks.org/event/preschool-open-gym-3/
LOCATION:Civic Center\, 327 W. Wilson Street\, Batavia\, IL\, 60510\, United States
CATEGORIES:Special Events,Youth Programs
ATTACH;FMTTYPE=image/jpeg:https://bataviaparks.org/wp-content/uploads/2026/01/2026-Preschool-Open-Gym-event-image.jpg
ORGANIZER;CN="Bethanne Guidarelli":MAILTO:bethanneg@bataviaparks.org
END:VEVENT
END:VCALENDAR