BEGIN:VCALENDAR
VERSION:2.0
PRODID:-//Batavia Park District - ECPv6.15.20//NONSGML v1.0//EN
CALSCALE:GREGORIAN
METHOD:PUBLISH
X-ORIGINAL-URL:https://bataviaparks.org
X-WR-CALDESC:Events for Batavia Park District
REFRESH-INTERVAL;VALUE=DURATION:PT1H
X-Robots-Tag:noindex
X-PUBLISHED-TTL:PT1H
BEGIN:VTIMEZONE
TZID:America/Chicago
BEGIN:DAYLIGHT
TZOFFSETFROM:-0600
TZOFFSETTO:-0500
TZNAME:CDT
DTSTART:20250309T080000
END:DAYLIGHT
BEGIN:STANDARD
TZOFFSETFROM:-0500
TZOFFSETTO:-0600
TZNAME:CST
DTSTART:20251102T070000
END:STANDARD
BEGIN:DAYLIGHT
TZOFFSETFROM:-0600
TZOFFSETTO:-0500
TZNAME:CDT
DTSTART:20260308T080000
END:DAYLIGHT
BEGIN:STANDARD
TZOFFSETFROM:-0500
TZOFFSETTO:-0600
TZNAME:CST
DTSTART:20261101T070000
END:STANDARD
BEGIN:DAYLIGHT
TZOFFSETFROM:-0600
TZOFFSETTO:-0500
TZNAME:CDT
DTSTART:20270314T080000
END:DAYLIGHT
BEGIN:STANDARD
TZOFFSETFROM:-0500
TZOFFSETTO:-0600
TZNAME:CST
DTSTART:20271107T070000
END:STANDARD
END:VTIMEZONE
BEGIN:VEVENT
DTSTART;TZID=America/Chicago:20260613T080000
DTEND;TZID=America/Chicago:20260613T170000
DTSTAMP:20260421T083655
CREATED:20260325T170657Z
LAST-MODIFIED:20260325T170657Z
UID:5209-1781337600-1781370000@bataviaparks.org
SUMMARY:Crystal Bowls Sound Healing
DESCRIPTION:Crystal Bowls\nEasy\nAges 16+\nRelax and rejuvenate your mind\, body and spirit with the soothing sounds of crystal singing bowls. Enjoy the physical and mental experience while listening to harmonious sound vibrations. Bring a pillow\, blanket and yoga mat to lay on the floor. Chairs are available for those wanting to be seated. \nInstructor: Mike McGuigan
URL:https://bataviaparks.org/event/crystal-bowls-sound-healing/
LOCATION:Shannon Hall
CATEGORIES:Adult Programs,Fitness
ATTACH;FMTTYPE=image/jpeg:https://bataviaparks.org/wp-content/uploads/2026/03/2026-Crystal-Bowls-Sound-Healing.jpg
ORGANIZER;CN="Kathy Freelund":MAILTO:kathyf@bataviaparks.org
END:VEVENT
BEGIN:VEVENT
DTSTART;TZID=America/Chicago:20260622T090000
DTEND;TZID=America/Chicago:20260622T094500
DTSTAMP:20260421T083655
CREATED:20260325T173711Z
LAST-MODIFIED:20260325T173711Z
UID:5235-1782118800-1782121500@bataviaparks.org
SUMMARY:Nordic Walk & Stretch
DESCRIPTION:Nordic Walk & Stretch\nIntermediate\nAges 16+\nLearn the correct Nordic walking technique with walking poles. We will walk for 30 minutes at a moderate to brisk pace\, followed by a muscle workout at the fitness court. We provide the poles\, or bring your own walking poles. Instructor: Kathy F.
URL:https://bataviaparks.org/event/nordic-walk-stretch/
LOCATION:Clark Island
CATEGORIES:Adult Programs,Fitness
ATTACH;FMTTYPE=image/jpeg:https://bataviaparks.org/wp-content/uploads/2026/03/2026-Nordic-Walk.jpg
ORGANIZER;CN="Kathy Freelund":MAILTO:kathyf@bataviaparks.org
END:VEVENT
END:VCALENDAR