BEGIN:VCALENDAR
VERSION:2.0
PRODID:-//Batavia Park District - ECPv6.15.20//NONSGML v1.0//EN
CALSCALE:GREGORIAN
METHOD:PUBLISH
X-ORIGINAL-URL:https://bataviaparks.org
X-WR-CALDESC:Events for Batavia Park District
REFRESH-INTERVAL;VALUE=DURATION:PT1H
X-Robots-Tag:noindex
X-PUBLISHED-TTL:PT1H
BEGIN:VTIMEZONE
TZID:UTC
BEGIN:STANDARD
TZOFFSETFROM:+0000
TZOFFSETTO:+0000
TZNAME:UTC
DTSTART:20240101T000000
END:STANDARD
END:VTIMEZONE
BEGIN:VEVENT
DTSTART;TZID=UTC:20250611T123000
DTEND;TZID=UTC:20250611T160000
DTSTAMP:20260421T031320
CREATED:20250724T184009Z
LAST-MODIFIED:20250807T194720Z
UID:1330-1749645000-1749657600@bataviaparks.org
SUMMARY:Wacky Water Olympics
DESCRIPTION:
URL:https://bataviaparks.org/event/wacky-water-olympics/
LOCATION:Hall Quarry Beach
CATEGORIES:Youth Programs
ATTACH;FMTTYPE=image/jpeg:https://bataviaparks.org/wp-content/uploads/2025/07/9c38c7a6c71720f285594359152cfae18fa957b7-e1755009237366.jpg
END:VEVENT
END:VCALENDAR